BEGIN:VCALENDAR
VERSION:2.0
PRODID:-//Windham-Tolland 4-H Camp - ECPv6.0.6.2//NONSGML v1.0//EN
CALSCALE:GREGORIAN
METHOD:PUBLISH
X-WR-CALNAME:Windham-Tolland 4-H Camp
X-ORIGINAL-URL:https://4hcampct.org
X-WR-CALDESC:Events for Windham-Tolland 4-H Camp
REFRESH-INTERVAL;VALUE=DURATION:PT1H
X-Robots-Tag:noindex
X-PUBLISHED-TTL:PT1H
BEGIN:VTIMEZONE
TZID:America/New_York
BEGIN:DAYLIGHT
TZOFFSETFROM:-0500
TZOFFSETTO:-0400
TZNAME:EDT
DTSTART:20210314T070000
END:DAYLIGHT
BEGIN:STANDARD
TZOFFSETFROM:-0400
TZOFFSETTO:-0500
TZNAME:EST
DTSTART:20211107T060000
END:STANDARD
END:VTIMEZONE
BEGIN:VEVENT
DTSTART;TZID=America/New_York:20210417T080000
DTEND;TZID=America/New_York:20210417T120000
DTSTAMP:20260423T194715
CREATED:20210317T203711Z
LAST-MODIFIED:20210317T203711Z
UID:4608-1618646400-1618660800@4hcampct.org
SUMMARY:Camper Scamper 5K Road Race
DESCRIPTION:Windham- Tolland 4-H Camp Camper Scamper  \n5K Race/Walk and 1 Mile Kid Run \nALL PROCEEDS WILL GO TO THE WINDHAM-TOLLAND 4-H CAMP JIM LOGEE CAMPERSHIP FUND \n                                                                                                                  Kids Race Begins 9:30am                                                                                                                               \n                                                                                                              Saturday\, April 17\, 2021                 \n                                                                                                                        Race Begins 10:00am                                \n                                                                                               4-H Camp Lodge- 326 Taft Pond Rd\, Pomfret\, CT \n                                                                                                                    MUST PRE-REGISTER \n  \n                                                                       REGISTER @ https://www.lightboxreg.com/WT4H_Camp_5K_2021 \n                    The course is mostly on paved roads\, except the start and finish which is on gravel\, and will be professionally timed by  \n                                                                                                             LAST MILE RACE MANAGEMENT.  \n                                                                                                             REGISTRATION INFORMATION \n                                                                                                             Register before- April 1 – $25.00  \n                                                                                                            Registration after April 1- $30.00 \n                                                                                   Youth Registration (12 and under) for 5K and 1 mile run – $10.00  \n 
URL:https://4hcampct.org/event/camper-scamper-5k-road-race/
CATEGORIES:Camp
END:VEVENT
BEGIN:VEVENT
DTSTART;TZID=America/New_York:20210417T120000
DTEND;TZID=America/New_York:20210417T160000
DTSTAMP:20260423T194715
CREATED:20210104T214059Z
LAST-MODIFIED:20210104T214059Z
UID:4453-1618660800-1618675200@4hcampct.org
SUMMARY:April Open House and Parent Panel
DESCRIPTION:
URL:https://4hcampct.org/event/april-open-house-and-parent-panel/
CATEGORIES:Camp
ATTACH;FMTTYPE=image/jpeg:https://4hcampct.org/wp-content/uploads/2021/01/April-Open-House-Ad-2021.jpg
END:VEVENT
END:VCALENDAR