BEGIN:VCALENDAR
VERSION:2.0
PRODID:-//Windham-Tolland 4-H Camp - ECPv6.0.6.2//NONSGML v1.0//EN
CALSCALE:GREGORIAN
METHOD:PUBLISH
X-ORIGINAL-URL:https://4hcampct.org
X-WR-CALDESC:Events for Windham-Tolland 4-H Camp
REFRESH-INTERVAL;VALUE=DURATION:PT1H
X-Robots-Tag:noindex
X-PUBLISHED-TTL:PT1H
BEGIN:VTIMEZONE
TZID:America/New_York
BEGIN:DAYLIGHT
TZOFFSETFROM:-0500
TZOFFSETTO:-0400
TZNAME:EDT
DTSTART:20240310T070000
END:DAYLIGHT
BEGIN:STANDARD
TZOFFSETFROM:-0400
TZOFFSETTO:-0500
TZNAME:EST
DTSTART:20241103T060000
END:STANDARD
END:VTIMEZONE
BEGIN:VEVENT
DTSTART;VALUE=DATE:20240201
DTEND;VALUE=DATE:20240301
DTSTAMP:20260421T111805
CREATED:20240122T221521Z
LAST-MODIFIED:20240122T221521Z
UID:5437-1706745600-1709251199@4hcampct.org
SUMMARY:Calendar Raffle
DESCRIPTION:BUY TICKETS HERE \n 
URL:https://4hcampct.org/event/calendar-raffle/
CATEGORIES:Camp
END:VEVENT
BEGIN:VEVENT
DTSTART;TZID=America/New_York:20240206T080000
DTEND;TZID=America/New_York:20240206T170000
DTSTAMP:20260421T111805
CREATED:20240206T222346Z
LAST-MODIFIED:20240206T222346Z
UID:5443-1707206400-1707238800@4hcampct.org
SUMMARY:Camper Scamper 5K
DESCRIPTION:Register here
URL:https://4hcampct.org/event/camper-scamper-5k-2/
CATEGORIES:Camp
END:VEVENT
END:VCALENDAR