BEGIN:VCALENDAR
VERSION:2.0
PRODID:-//Windham-Tolland 4-H Camp - ECPv6.0.6.2//NONSGML v1.0//EN
CALSCALE:GREGORIAN
METHOD:PUBLISH
X-ORIGINAL-URL:https://4hcampct.org
X-WR-CALDESC:Events for Windham-Tolland 4-H Camp
REFRESH-INTERVAL;VALUE=DURATION:PT1H
X-Robots-Tag:noindex
X-PUBLISHED-TTL:PT1H
BEGIN:VTIMEZONE
TZID:America/New_York
BEGIN:DAYLIGHT
TZOFFSETFROM:-0500
TZOFFSETTO:-0400
TZNAME:EDT
DTSTART:20240310T070000
END:DAYLIGHT
BEGIN:STANDARD
TZOFFSETFROM:-0400
TZOFFSETTO:-0500
TZNAME:EST
DTSTART:20241103T060000
END:STANDARD
END:VTIMEZONE
BEGIN:VEVENT
DTSTART;TZID=America/New_York:20240301T170000
DTEND;TZID=America/New_York:20240303T090000
DTSTAMP:20260421T094922
CREATED:20230913T194156Z
LAST-MODIFIED:20230922T144134Z
UID:5327-1709312400-1709456400@4hcampct.org
SUMMARY:March Teen Weekend
DESCRIPTION:Register Here 
URL:https://4hcampct.org/event/march-teen-weekend-7/
CATEGORIES:Camp
ATTACH;FMTTYPE=image/png:https://4hcampct.org/wp-content/uploads/2023/09/March-Teen-Weekend-2024-1.png
END:VEVENT
END:VCALENDAR