BEGIN:VCALENDAR
VERSION:2.0
PRODID:-//Windham-Tolland 4-H Camp - ECPv6.0.6.2//NONSGML v1.0//EN
CALSCALE:GREGORIAN
METHOD:PUBLISH
X-ORIGINAL-URL:https://4hcampct.org
X-WR-CALDESC:Events for Windham-Tolland 4-H Camp
REFRESH-INTERVAL;VALUE=DURATION:PT1H
X-Robots-Tag:noindex
X-PUBLISHED-TTL:PT1H
BEGIN:VTIMEZONE
TZID:America/New_York
BEGIN:DAYLIGHT
TZOFFSETFROM:-0500
TZOFFSETTO:-0400
TZNAME:EDT
DTSTART:20240310T070000
END:DAYLIGHT
BEGIN:STANDARD
TZOFFSETFROM:-0400
TZOFFSETTO:-0500
TZNAME:EST
DTSTART:20241103T060000
END:STANDARD
END:VTIMEZONE
BEGIN:VEVENT
DTSTART;TZID=America/New_York:20240415T080000
DTEND;TZID=America/New_York:20240502T170000
DTSTAMP:20260421T080831
CREATED:20230913T194519Z
LAST-MODIFIED:20230913T194519Z
UID:5333-1713168000-1714669200@4hcampct.org
SUMMARY:Auction Set up
DESCRIPTION:
URL:https://4hcampct.org/event/auction-set-up-3/
CATEGORIES:4-H Foundation
END:VEVENT
BEGIN:VEVENT
DTSTART;TZID=America/New_York:20240420T080000
DTEND;TZID=America/New_York:20240420T120000
DTSTAMP:20260421T080831
CREATED:20240403T155725Z
LAST-MODIFIED:20240403T155725Z
UID:5506-1713600000-1713614400@4hcampct.org
SUMMARY:Camper Scamper 5K
DESCRIPTION:
URL:https://4hcampct.org/event/camper-scamper-5k-3/
CATEGORIES:Camp
END:VEVENT
BEGIN:VEVENT
DTSTART;TZID=America/New_York:20240420T120000
DTEND;TZID=America/New_York:20240420T160000
DTSTAMP:20260421T080831
CREATED:20230913T194421Z
LAST-MODIFIED:20230914T191223Z
UID:5331-1713614400-1713628800@4hcampct.org
SUMMARY:April Open House
DESCRIPTION:
URL:https://4hcampct.org/event/april-open-house-7/
CATEGORIES:Camp
ATTACH;FMTTYPE=image/png:https://4hcampct.org/wp-content/uploads/2023/09/April-Open-House.png
END:VEVENT
END:VCALENDAR