BEGIN:VCALENDAR
VERSION:2.0
PRODID:-//Windham-Tolland 4-H Camp - ECPv6.0.6.2//NONSGML v1.0//EN
CALSCALE:GREGORIAN
METHOD:PUBLISH
X-WR-CALNAME:Windham-Tolland 4-H Camp
X-ORIGINAL-URL:https://4hcampct.org
X-WR-CALDESC:Events for Windham-Tolland 4-H Camp
REFRESH-INTERVAL;VALUE=DURATION:PT1H
X-Robots-Tag:noindex
X-PUBLISHED-TTL:PT1H
BEGIN:VTIMEZONE
TZID:America/New_York
BEGIN:DAYLIGHT
TZOFFSETFROM:-0500
TZOFFSETTO:-0400
TZNAME:EDT
DTSTART:20240310T070000
END:DAYLIGHT
BEGIN:STANDARD
TZOFFSETFROM:-0400
TZOFFSETTO:-0500
TZNAME:EST
DTSTART:20241103T060000
END:STANDARD
END:VTIMEZONE
BEGIN:VEVENT
DTSTART;TZID=America/New_York:20240817T110000
DTEND;TZID=America/New_York:20240817T150000
DTSTAMP:20260421T021750
CREATED:20240620T151409Z
LAST-MODIFIED:20240620T152013Z
UID:5524-1723892400-1723906800@4hcampct.org
SUMMARY:70th Celebration Event
DESCRIPTION:Register Here
URL:https://4hcampct.org/event/70th-celebration-event/
CATEGORIES:4-H Foundation
END:VEVENT
END:VCALENDAR