BEGIN:VCALENDAR
VERSION:2.0
PRODID:-//Windham-Tolland 4-H Camp - ECPv6.0.6.2//NONSGML v1.0//EN
CALSCALE:GREGORIAN
METHOD:PUBLISH
X-WR-CALNAME:Windham-Tolland 4-H Camp
X-ORIGINAL-URL:https://4hcampct.org
X-WR-CALDESC:Events for Windham-Tolland 4-H Camp
REFRESH-INTERVAL;VALUE=DURATION:PT1H
X-Robots-Tag:noindex
X-PUBLISHED-TTL:PT1H
BEGIN:VTIMEZONE
TZID:America/New_York
BEGIN:DAYLIGHT
TZOFFSETFROM:-0500
TZOFFSETTO:-0400
TZNAME:EDT
DTSTART:20250309T070000
END:DAYLIGHT
BEGIN:STANDARD
TZOFFSETFROM:-0400
TZOFFSETTO:-0500
TZNAME:EST
DTSTART:20251102T060000
END:STANDARD
END:VTIMEZONE
BEGIN:VEVENT
DTSTART;TZID=America/New_York:20250216T130000
DTEND;TZID=America/New_York:20250216T150000
DTSTAMP:20260420T162502
CREATED:20240922T203054Z
LAST-MODIFIED:20240922T203054Z
UID:5612-1739710800-1739718000@4hcampct.org
SUMMARY:February Open House
DESCRIPTION:
URL:https://4hcampct.org/event/february-open-house-6/
CATEGORIES:Camp
ATTACH;FMTTYPE=image/png:https://4hcampct.org/wp-content/uploads/2024/09/February-Open-House-2025.png
END:VEVENT
END:VCALENDAR