BEGIN:VCALENDAR
VERSION:2.0
PRODID:-//Windham-Tolland 4-H Camp - ECPv6.0.6.2//NONSGML v1.0//EN
CALSCALE:GREGORIAN
METHOD:PUBLISH
X-WR-CALNAME:Windham-Tolland 4-H Camp
X-ORIGINAL-URL:https://4hcampct.org
X-WR-CALDESC:Events for Windham-Tolland 4-H Camp
REFRESH-INTERVAL;VALUE=DURATION:PT1H
X-Robots-Tag:noindex
X-PUBLISHED-TTL:PT1H
BEGIN:VTIMEZONE
TZID:America/New_York
BEGIN:DAYLIGHT
TZOFFSETFROM:-0500
TZOFFSETTO:-0400
TZNAME:EDT
DTSTART:20120311T070000
END:DAYLIGHT
BEGIN:STANDARD
TZOFFSETFROM:-0400
TZOFFSETTO:-0500
TZNAME:EST
DTSTART:20121104T060000
END:STANDARD
BEGIN:DAYLIGHT
TZOFFSETFROM:-0500
TZOFFSETTO:-0400
TZNAME:EDT
DTSTART:20130310T070000
END:DAYLIGHT
BEGIN:STANDARD
TZOFFSETFROM:-0400
TZOFFSETTO:-0500
TZNAME:EST
DTSTART:20131103T060000
END:STANDARD
BEGIN:DAYLIGHT
TZOFFSETFROM:-0500
TZOFFSETTO:-0400
TZNAME:EDT
DTSTART:20140309T070000
END:DAYLIGHT
BEGIN:STANDARD
TZOFFSETFROM:-0400
TZOFFSETTO:-0500
TZNAME:EST
DTSTART:20141102T060000
END:STANDARD
BEGIN:DAYLIGHT
TZOFFSETFROM:-0500
TZOFFSETTO:-0400
TZNAME:EDT
DTSTART:20150308T070000
END:DAYLIGHT
BEGIN:STANDARD
TZOFFSETFROM:-0400
TZOFFSETTO:-0500
TZNAME:EST
DTSTART:20151101T060000
END:STANDARD
BEGIN:DAYLIGHT
TZOFFSETFROM:-0500
TZOFFSETTO:-0400
TZNAME:EDT
DTSTART:20160313T070000
END:DAYLIGHT
BEGIN:STANDARD
TZOFFSETFROM:-0400
TZOFFSETTO:-0500
TZNAME:EST
DTSTART:20161106T060000
END:STANDARD
BEGIN:DAYLIGHT
TZOFFSETFROM:-0500
TZOFFSETTO:-0400
TZNAME:EDT
DTSTART:20170312T070000
END:DAYLIGHT
BEGIN:STANDARD
TZOFFSETFROM:-0400
TZOFFSETTO:-0500
TZNAME:EST
DTSTART:20171105T060000
END:STANDARD
BEGIN:DAYLIGHT
TZOFFSETFROM:-0500
TZOFFSETTO:-0400
TZNAME:EDT
DTSTART:20180311T070000
END:DAYLIGHT
BEGIN:STANDARD
TZOFFSETFROM:-0400
TZOFFSETTO:-0500
TZNAME:EST
DTSTART:20181104T060000
END:STANDARD
BEGIN:DAYLIGHT
TZOFFSETFROM:-0500
TZOFFSETTO:-0400
TZNAME:EDT
DTSTART:20190310T070000
END:DAYLIGHT
BEGIN:STANDARD
TZOFFSETFROM:-0400
TZOFFSETTO:-0500
TZNAME:EST
DTSTART:20191103T060000
END:STANDARD
BEGIN:DAYLIGHT
TZOFFSETFROM:-0500
TZOFFSETTO:-0400
TZNAME:EDT
DTSTART:20200308T070000
END:DAYLIGHT
BEGIN:STANDARD
TZOFFSETFROM:-0400
TZOFFSETTO:-0500
TZNAME:EST
DTSTART:20201101T060000
END:STANDARD
BEGIN:DAYLIGHT
TZOFFSETFROM:-0500
TZOFFSETTO:-0400
TZNAME:EDT
DTSTART:20210314T070000
END:DAYLIGHT
BEGIN:STANDARD
TZOFFSETFROM:-0400
TZOFFSETTO:-0500
TZNAME:EST
DTSTART:20211107T060000
END:STANDARD
BEGIN:DAYLIGHT
TZOFFSETFROM:-0500
TZOFFSETTO:-0400
TZNAME:EDT
DTSTART:20220313T070000
END:DAYLIGHT
BEGIN:STANDARD
TZOFFSETFROM:-0400
TZOFFSETTO:-0500
TZNAME:EST
DTSTART:20221106T060000
END:STANDARD
BEGIN:DAYLIGHT
TZOFFSETFROM:-0500
TZOFFSETTO:-0400
TZNAME:EDT
DTSTART:20230312T070000
END:DAYLIGHT
BEGIN:STANDARD
TZOFFSETFROM:-0400
TZOFFSETTO:-0500
TZNAME:EST
DTSTART:20231105T060000
END:STANDARD
BEGIN:DAYLIGHT
TZOFFSETFROM:-0500
TZOFFSETTO:-0400
TZNAME:EDT
DTSTART:20240310T070000
END:DAYLIGHT
BEGIN:STANDARD
TZOFFSETFROM:-0400
TZOFFSETTO:-0500
TZNAME:EST
DTSTART:20241103T060000
END:STANDARD
END:VTIMEZONE
BEGIN:VEVENT
DTSTART;TZID=America/New_York:20241016T163000
DTEND;TZID=America/New_York:20241016T173000
DTSTAMP:20260421T111938
CREATED:20240922T200423Z
LAST-MODIFIED:20240922T200423Z
UID:5576-1729096200-1729099800@4hcampct.org
SUMMARY:RHW CLASS
DESCRIPTION:
URL:https://4hcampct.org/event/rhw-class-4/
CATEGORIES:Ragged Hill Woods
ATTACH;FMTTYPE=image/png:https://4hcampct.org/wp-content/uploads/2024/09/RHW-Fall-2024.png
END:VEVENT
BEGIN:VEVENT
DTSTART;TZID=America/New_York:20241009T163000
DTEND;TZID=America/New_York:20241009T173000
DTSTAMP:20260421T111938
CREATED:20240922T200237Z
LAST-MODIFIED:20240922T200237Z
UID:5574-1728491400-1728495000@4hcampct.org
SUMMARY:RHW CLASS
DESCRIPTION:
URL:https://4hcampct.org/event/rhw-class-3/
CATEGORIES:Ragged Hill Woods
ATTACH;FMTTYPE=image/png:https://4hcampct.org/wp-content/uploads/2024/09/RHW-Fall-2024.png
END:VEVENT
BEGIN:VEVENT
DTSTART;TZID=America/New_York:20241009T080000
DTEND;TZID=America/New_York:20241009T170000
DTSTAMP:20260421T111938
CREATED:20240922T201225Z
LAST-MODIFIED:20240922T201225Z
UID:5588-1728460800-1728493200@4hcampct.org
SUMMARY:RHW PRIVATE GROUP
DESCRIPTION:This program is not open to the public. 
URL:https://4hcampct.org/event/rhw-private-group/
CATEGORIES:Ragged Hill Woods
END:VEVENT
BEGIN:VEVENT
DTSTART;TZID=America/New_York:20241002T163000
DTEND;TZID=America/New_York:20241002T173000
DTSTAMP:20260421T111938
CREATED:20240922T200136Z
LAST-MODIFIED:20240922T200136Z
UID:5572-1727886600-1727890200@4hcampct.org
SUMMARY:RHW CLASS
DESCRIPTION:
URL:https://4hcampct.org/event/rhw-class-2/
CATEGORIES:Ragged Hill Woods
ATTACH;FMTTYPE=image/png:https://4hcampct.org/wp-content/uploads/2024/09/RHW-Fall-2024.png
END:VEVENT
BEGIN:VEVENT
DTSTART;TZID=America/New_York:20240925T163000
DTEND;TZID=America/New_York:20240925T173000
DTSTAMP:20260421T111938
CREATED:20240922T195828Z
LAST-MODIFIED:20240922T195828Z
UID:5569-1727281800-1727285400@4hcampct.org
SUMMARY:RHW CLASS
DESCRIPTION:
URL:https://4hcampct.org/event/rhw-class/
CATEGORIES:Ragged Hill Woods
ATTACH;FMTTYPE=image/png:https://4hcampct.org/wp-content/uploads/2024/09/RHW-Fall-2024.png
END:VEVENT
BEGIN:VEVENT
DTSTART;TZID=America/New_York:20231108T100000
DTEND;TZID=America/New_York:20231108T173000
DTSTAMP:20260421T111938
CREATED:20230913T191301Z
LAST-MODIFIED:20230914T185022Z
UID:5306-1699437600-1699464600@4hcampct.org
SUMMARY:RHW Wednesday Science Program
DESCRIPTION:Register Here
URL:https://4hcampct.org/event/rhw-wednesday-science-program-7/
CATEGORIES:Ragged Hill Woods
ATTACH;FMTTYPE=image/png:https://4hcampct.org/wp-content/uploads/2023/09/RHW-Fall-2023-2.png
END:VEVENT
BEGIN:VEVENT
DTSTART;TZID=America/New_York:20231101T100000
DTEND;TZID=America/New_York:20231101T173000
DTSTAMP:20260421T111938
CREATED:20230913T191115Z
LAST-MODIFIED:20230914T184949Z
UID:5304-1698832800-1698859800@4hcampct.org
SUMMARY:RHW Wednesday Science Program
DESCRIPTION:Register Here
URL:https://4hcampct.org/event/rhw-wednesday-science-program-6/
CATEGORIES:Ragged Hill Woods
ATTACH;FMTTYPE=image/png:https://4hcampct.org/wp-content/uploads/2023/09/RHW-Fall-2023-2.png
END:VEVENT
BEGIN:VEVENT
DTSTART;TZID=America/New_York:20231019T100000
DTEND;TZID=America/New_York:20231020T130000
DTSTAMP:20260421T111938
CREATED:20230428T125709Z
LAST-MODIFIED:20230428T125709Z
UID:5219-1697709600-1697806800@4hcampct.org
SUMMARY:RHW Group
DESCRIPTION:
URL:https://4hcampct.org/event/rhw-group/
CATEGORIES:Ragged Hill Woods
END:VEVENT
BEGIN:VEVENT
DTSTART;TZID=America/New_York:20231018T100000
DTEND;TZID=America/New_York:20231018T173000
DTSTAMP:20260421T111938
CREATED:20230913T190910Z
LAST-MODIFIED:20230914T184834Z
UID:5302-1697623200-1697650200@4hcampct.org
SUMMARY:RHW Wednesday Science Program
DESCRIPTION:Register Here
URL:https://4hcampct.org/event/rhw-wednesday-science-program-5/
CATEGORIES:Ragged Hill Woods
ATTACH;FMTTYPE=image/png:https://4hcampct.org/wp-content/uploads/2023/09/RHW-Fall-2023-2.png
END:VEVENT
BEGIN:VEVENT
DTSTART;TZID=America/New_York:20231011T100000
DTEND;TZID=America/New_York:20231011T173000
DTSTAMP:20260421T111938
CREATED:20230913T190749Z
LAST-MODIFIED:20230914T184618Z
UID:5300-1697018400-1697045400@4hcampct.org
SUMMARY:RHW Wednesday Science Program
DESCRIPTION:Register Here
URL:https://4hcampct.org/event/rhw-wednesday-science-program-4/
CATEGORIES:Ragged Hill Woods
ATTACH;FMTTYPE=image/png:https://4hcampct.org/wp-content/uploads/2023/09/RHW-Fall-2023-2.png
END:VEVENT
BEGIN:VEVENT
DTSTART;TZID=America/New_York:20231004T100000
DTEND;TZID=America/New_York:20231004T173000
DTSTAMP:20260421T111938
CREATED:20230913T190022Z
LAST-MODIFIED:20230913T220137Z
UID:5297-1696413600-1696440600@4hcampct.org
SUMMARY:RHW Wednesday Science Program
DESCRIPTION:Register Here
URL:https://4hcampct.org/event/rhw-wednesday-science-program-3/
CATEGORIES:Ragged Hill Woods
ATTACH;FMTTYPE=image/png:https://4hcampct.org/wp-content/uploads/2023/09/RHW-Fall-2023-.png
END:VEVENT
BEGIN:VEVENT
DTSTART;TZID=America/New_York:20230927T100000
DTEND;TZID=America/New_York:20230927T173000
DTSTAMP:20260421T111938
CREATED:20230913T185829Z
LAST-MODIFIED:20230913T215929Z
UID:5295-1695808800-1695835800@4hcampct.org
SUMMARY:RHW Wednesday Science Program
DESCRIPTION:Register Here
URL:https://4hcampct.org/event/rhw-wednesday-science-program-2/
CATEGORIES:Ragged Hill Woods
ATTACH;FMTTYPE=image/png:https://4hcampct.org/wp-content/uploads/2023/09/RHW-Fall-2023-.png
END:VEVENT
BEGIN:VEVENT
DTSTART;TZID=America/New_York:20230920T100000
DTEND;TZID=America/New_York:20230920T173000
DTSTAMP:20260421T111938
CREATED:20230913T185456Z
LAST-MODIFIED:20230914T191831Z
UID:5287-1695204000-1695231000@4hcampct.org
SUMMARY:RHW Wednesday Science Program
DESCRIPTION:Register Here
URL:https://4hcampct.org/event/rhw-wednesday-science-program/
CATEGORIES:Ragged Hill Woods
ATTACH;FMTTYPE=image/png:https://4hcampct.org/wp-content/uploads/2023/09/RHW-Fall-2023-.png
END:VEVENT
BEGIN:VEVENT
DTSTART;TZID=America/New_York:20230317T080000
DTEND;TZID=America/New_York:20230318T170000
DTSTAMP:20260421T111938
CREATED:20230119T213733Z
LAST-MODIFIED:20230119T213733Z
UID:5137-1679040000-1679158800@4hcampct.org
SUMMARY:Ragged Hill Woods Group
DESCRIPTION:
URL:https://4hcampct.org/event/ragged-hill-woods-group/
CATEGORIES:Ragged Hill Woods
END:VEVENT
BEGIN:VEVENT
DTSTART;TZID=America/New_York:20230201T100000
DTEND;TZID=America/New_York:20230201T173000
DTSTAMP:20260421T111938
CREATED:20230119T231902Z
LAST-MODIFIED:20230119T231902Z
UID:5163-1675245600-1675272600@4hcampct.org
SUMMARY:Ragged Hill Woods Sessions
DESCRIPTION:Winter Sessions 1 – 2023
URL:https://4hcampct.org/event/ragged-hill-woods-sessions/
CATEGORIES:Ragged Hill Woods
END:VEVENT
BEGIN:VEVENT
DTSTART;TZID=America/New_York:20230125T100000
DTEND;TZID=America/New_York:20230125T173000
DTSTAMP:20260421T111938
CREATED:20230119T225923Z
LAST-MODIFIED:20230119T225923Z
UID:5160-1674640800-1674667800@4hcampct.org
SUMMARY:RHW Classes
DESCRIPTION:Winter Sessions 1 – 2023
URL:https://4hcampct.org/event/rhw-classes/
CATEGORIES:Ragged Hill Woods
END:VEVENT
BEGIN:VEVENT
DTSTART;TZID=America/New_York:20220209T100000
DTEND;TZID=America/New_York:20220209T173000
DTSTAMP:20260421T111938
CREATED:20211229T174921Z
LAST-MODIFIED:20211229T174956Z
UID:4841-1644400800-1644427800@4hcampct.org
SUMMARY:Ragged Hill Woods Winter Session 1-5
DESCRIPTION:Register Here
URL:https://4hcampct.org/event/ragged-hill-woods-winter-session-1-5/
CATEGORIES:Ragged Hill Woods
END:VEVENT
BEGIN:VEVENT
DTSTART;TZID=America/New_York:20220202T100000
DTEND;TZID=America/New_York:20220202T173000
DTSTAMP:20260421T111938
CREATED:20211229T174727Z
LAST-MODIFIED:20211229T175416Z
UID:4839-1643796000-1643823000@4hcampct.org
SUMMARY:Ragged Hill Woods Winter Session 1-4
DESCRIPTION:Register Here
URL:https://4hcampct.org/event/ragged-hill-woods-winter-session-1-3-2/
CATEGORIES:Ragged Hill Woods
END:VEVENT
BEGIN:VEVENT
DTSTART;TZID=America/New_York:20220126T100000
DTEND;TZID=America/New_York:20220126T173000
DTSTAMP:20260421T111938
CREATED:20211229T174553Z
LAST-MODIFIED:20211229T174553Z
UID:4837-1643191200-1643218200@4hcampct.org
SUMMARY:Ragged Hill Woods Winter Session 1-3
DESCRIPTION:Register Here
URL:https://4hcampct.org/event/ragged-hill-woods-winter-session-1-3/
CATEGORIES:Ragged Hill Woods
END:VEVENT
BEGIN:VEVENT
DTSTART;TZID=America/New_York:20220119T100000
DTEND;TZID=America/New_York:20220119T110000
DTSTAMP:20260421T111938
CREATED:20211229T174039Z
LAST-MODIFIED:20211229T174149Z
UID:4833-1642586400-1642590000@4hcampct.org
SUMMARY:Ragged Hill Woods Winter Session 1-2
DESCRIPTION:Register Here
URL:https://4hcampct.org/event/ragged-hill-woods-winter-session-2/
CATEGORIES:Ragged Hill Woods
END:VEVENT
BEGIN:VEVENT
DTSTART;TZID=America/New_York:20220112T100000
DTEND;TZID=America/New_York:20220112T110000
DTSTAMP:20260421T111938
CREATED:20211229T173234Z
LAST-MODIFIED:20211229T173234Z
UID:4830-1641981600-1641985200@4hcampct.org
SUMMARY:Ragged Hill Woods Session Winter Session 1-1
DESCRIPTION: Register Here \n 
URL:https://4hcampct.org/event/ragged-hill-woods-session-winter-session-1-1/
CATEGORIES:Ragged Hill Woods
END:VEVENT
BEGIN:VEVENT
DTSTART;TZID=America/New_York:20210126T080000
DTEND;TZID=America/New_York:20210127T170000
DTSTAMP:20260421T111938
CREATED:20210104T204920Z
LAST-MODIFIED:20210104T204920Z
UID:4440-1611648000-1611766800@4hcampct.org
SUMMARY:Ragged Hill Woods- January Session- Fire Building
DESCRIPTION:
URL:https://4hcampct.org/event/ragged-hill-woods-january-session-fire-building/
CATEGORIES:Ragged Hill Woods
ATTACH;FMTTYPE=image/jpeg:https://4hcampct.org/wp-content/uploads/2021/01/January-Session-2021.jpg
END:VEVENT
BEGIN:VEVENT
DTSTART;TZID=America/New_York:20210119T080000
DTEND;TZID=America/New_York:20210120T170000
DTSTAMP:20260421T111938
CREATED:20210104T204838Z
LAST-MODIFIED:20210104T204838Z
UID:4438-1611043200-1611162000@4hcampct.org
SUMMARY:Ragged Hill Woods- January Session- Habitats
DESCRIPTION:
URL:https://4hcampct.org/event/ragged-hill-woods-january-session-habitats/
CATEGORIES:Ragged Hill Woods
ATTACH;FMTTYPE=image/jpeg:https://4hcampct.org/wp-content/uploads/2021/01/January-Session-2021.jpg
END:VEVENT
BEGIN:VEVENT
DTSTART;TZID=America/New_York:20210112T080000
DTEND;TZID=America/New_York:20210113T170000
DTSTAMP:20260421T111938
CREATED:20210104T204752Z
LAST-MODIFIED:20210104T204752Z
UID:4436-1610438400-1610557200@4hcampct.org
SUMMARY:Ragged Hill Woods- January Session - Tracts and Scat
DESCRIPTION:
URL:https://4hcampct.org/event/ragged-hill-woods-january-session-tracts-and-scat/
CATEGORIES:Ragged Hill Woods
END:VEVENT
BEGIN:VEVENT
DTSTART;TZID=America/New_York:20210105T080000
DTEND;TZID=America/New_York:20210106T170000
DTSTAMP:20260421T111938
CREATED:20210104T203259Z
LAST-MODIFIED:20210104T203501Z
UID:4426-1609833600-1609952400@4hcampct.org
SUMMARY:Ragged Hill Woods January Session 1 - All About Snow
DESCRIPTION:January 5th(Pre-K and K) January 6th(Grades 1-6) –  All About Snow  \nChildren will learn about the science of snow
URL:https://4hcampct.org/event/ragged-hill-woods-january-session-1-all-about-snow/
CATEGORIES:Ragged Hill Woods
ATTACH;FMTTYPE=image/jpeg:https://4hcampct.org/wp-content/uploads/2021/01/January-Session-2021.jpg
END:VEVENT
BEGIN:VEVENT
DTSTART;TZID=America/New_York:20180922T160000
DTEND;TZID=America/New_York:20180923T160000
DTSTAMP:20260421T111938
CREATED:20180914T175810Z
LAST-MODIFIED:20180914T175810Z
UID:3613-1537632000-1537718400@4hcampct.org
SUMMARY:Ragged Hill Woods Event
DESCRIPTION:
URL:https://4hcampct.org/event/ragged-hill-woods-event/
CATEGORIES:Ragged Hill Woods
END:VEVENT
BEGIN:VEVENT
DTSTART;VALUE=DATE:20130506
DTEND;VALUE=DATE:20130508
DTSTAMP:20260421T111938
CREATED:20130221T003149Z
LAST-MODIFIED:20130221T003149Z
UID:717-1367798400-1367971199@4hcampct.org
SUMMARY:RHW- 3rd Graders
DESCRIPTION:
URL:https://4hcampct.org/event/rhw-3rd-graders/
CATEGORIES:Ragged Hill Woods
END:VEVENT
BEGIN:VEVENT
DTSTART;VALUE=DATE:20120222
DTEND;VALUE=DATE:20120223
DTSTAMP:20260421T111938
CREATED:20120222T170133Z
LAST-MODIFIED:20120222T170449Z
UID:481-1329868800-1329955199@4hcampct.org
SUMMARY:test event
DESCRIPTION:
URL:https://4hcampct.org/event/test-event/
CATEGORIES:Ragged Hill Woods
END:VEVENT
END:VCALENDAR