BEGIN:VCALENDAR
VERSION:2.0
PRODID:-//Windham-Tolland 4-H Camp - ECPv6.0.6.2//NONSGML v1.0//EN
CALSCALE:GREGORIAN
METHOD:PUBLISH
X-WR-CALNAME:Windham-Tolland 4-H Camp
X-ORIGINAL-URL:https://4hcampct.org
X-WR-CALDESC:Events for Windham-Tolland 4-H Camp
REFRESH-INTERVAL;VALUE=DURATION:PT1H
X-Robots-Tag:noindex
X-PUBLISHED-TTL:PT1H
BEGIN:VTIMEZONE
TZID:America/New_York
BEGIN:DAYLIGHT
TZOFFSETFROM:-0500
TZOFFSETTO:-0400
TZNAME:EDT
DTSTART:20230312T070000
END:DAYLIGHT
BEGIN:STANDARD
TZOFFSETFROM:-0400
TZOFFSETTO:-0500
TZNAME:EST
DTSTART:20231105T060000
END:STANDARD
END:VTIMEZONE
BEGIN:VEVENT
DTSTART;TZID=America/New_York:20231203T110000
DTEND;TZID=America/New_York:20231203T130000
DTSTAMP:20260421T125639
CREATED:20230913T192504Z
LAST-MODIFIED:20230913T192504Z
UID:5312-1701601200-1701608400@4hcampct.org
SUMMARY:Lunch with Santa
DESCRIPTION:
URL:https://4hcampct.org/event/lunch-with-santa-4/
CATEGORIES:Camp
ATTACH;FMTTYPE=image/png:https://4hcampct.org/wp-content/uploads/2023/09/2023-Lunch-with-Santa-1.png
END:VEVENT
BEGIN:VEVENT
DTSTART;TZID=America/New_York:20231228T090000
DTEND;TZID=America/New_York:20231228T150000
DTSTAMP:20260421T125639
CREATED:20230913T192622Z
LAST-MODIFIED:20230914T185339Z
UID:5314-1703754000-1703775600@4hcampct.org
SUMMARY:Dec. Camper Game Day
DESCRIPTION:Register Here
URL:https://4hcampct.org/event/dec-camper-game-day/
CATEGORIES:Camp
ATTACH;FMTTYPE=image/png:https://4hcampct.org/wp-content/uploads/2023/09/Camper-Game-Day-Dec-2023.png
END:VEVENT
END:VCALENDAR