BEGIN:VCALENDAR
VERSION:2.0
PRODID:-//Windham-Tolland 4-H Camp - ECPv6.0.6.2//NONSGML v1.0//EN
CALSCALE:GREGORIAN
METHOD:PUBLISH
X-ORIGINAL-URL:https://4hcampct.org
X-WR-CALDESC:Events for Windham-Tolland 4-H Camp
REFRESH-INTERVAL;VALUE=DURATION:PT1H
X-Robots-Tag:noindex
X-PUBLISHED-TTL:PT1H
BEGIN:VTIMEZONE
TZID:America/New_York
BEGIN:DAYLIGHT
TZOFFSETFROM:-0500
TZOFFSETTO:-0400
TZNAME:EDT
DTSTART:20240310T070000
END:DAYLIGHT
BEGIN:STANDARD
TZOFFSETFROM:-0400
TZOFFSETTO:-0500
TZNAME:EST
DTSTART:20241103T060000
END:STANDARD
END:VTIMEZONE
BEGIN:VEVENT
DTSTART;VALUE=DATE:20240828
DTEND;VALUE=DATE:20240902
DTSTAMP:20260420T230709
CREATED:20240403T154359Z
LAST-MODIFIED:20240403T154359Z
UID:5484-1724803200-1725235199@4hcampct.org
SUMMARY:Private Rental
DESCRIPTION:
URL:https://4hcampct.org/event/private-rental-23/
CATEGORIES:Private Group Rentals
END:VEVENT
BEGIN:VEVENT
DTSTART;TZID=America/New_York:20240906T080000
DTEND;TZID=America/New_York:20240908T170000
DTSTAMP:20260420T230709
CREATED:20240403T154457Z
LAST-MODIFIED:20240403T154457Z
UID:5486-1725609600-1725814800@4hcampct.org
SUMMARY:Private Rental
DESCRIPTION:
URL:https://4hcampct.org/event/private-rental-24/
CATEGORIES:Private Group Rentals
END:VEVENT
BEGIN:VEVENT
DTSTART;VALUE=DATE:20240913
DTEND;VALUE=DATE:20240916
DTSTAMP:20260420T230709
CREATED:20240403T154742Z
LAST-MODIFIED:20240403T154742Z
UID:5488-1726185600-1726444799@4hcampct.org
SUMMARY:Private Rental
DESCRIPTION:
URL:https://4hcampct.org/event/private-rental-25/
CATEGORIES:Private Group Rentals
END:VEVENT
BEGIN:VEVENT
DTSTART;VALUE=DATE:20240920
DTEND;VALUE=DATE:20240923
DTSTAMP:20260420T230709
CREATED:20240403T155033Z
LAST-MODIFIED:20240403T155033Z
UID:5490-1726790400-1727049599@4hcampct.org
SUMMARY:Private Rental
DESCRIPTION:
URL:https://4hcampct.org/event/private-rental-26/
CATEGORIES:Private Group Rentals
END:VEVENT
BEGIN:VEVENT
DTSTART;TZID=America/New_York:20240922T080000
DTEND;TZID=America/New_York:20240922T170000
DTSTAMP:20260420T230709
CREATED:20240922T203924Z
LAST-MODIFIED:20240922T203924Z
UID:5622-1726992000-1727024400@4hcampct.org
SUMMARY:April Open House
DESCRIPTION:
URL:https://4hcampct.org/event/april-open-house-8/
CATEGORIES:Camp
ATTACH;FMTTYPE=image/png:https://4hcampct.org/wp-content/uploads/2024/09/April-Open-House-2025.png
END:VEVENT
BEGIN:VEVENT
DTSTART;TZID=America/New_York:20240925T163000
DTEND;TZID=America/New_York:20240925T173000
DTSTAMP:20260420T230709
CREATED:20240922T195828Z
LAST-MODIFIED:20240922T195828Z
UID:5569-1727281800-1727285400@4hcampct.org
SUMMARY:RHW CLASS
DESCRIPTION:
URL:https://4hcampct.org/event/rhw-class/
CATEGORIES:Ragged Hill Woods
ATTACH;FMTTYPE=image/png:https://4hcampct.org/wp-content/uploads/2024/09/RHW-Fall-2024.png
END:VEVENT
BEGIN:VEVENT
DTSTART;VALUE=DATE:20240927
DTEND;VALUE=DATE:20240930
DTSTAMP:20260420T230709
CREATED:20240403T155110Z
LAST-MODIFIED:20240403T155123Z
UID:5492-1727395200-1727654399@4hcampct.org
SUMMARY:Private Rental
DESCRIPTION:
URL:https://4hcampct.org/event/private-rental-27/
CATEGORIES:Private Group Rentals
END:VEVENT
END:VCALENDAR