BEGIN:VCALENDAR
VERSION:2.0
PRODID:-//Windham-Tolland 4-H Camp - ECPv6.0.6.2//NONSGML v1.0//EN
CALSCALE:GREGORIAN
METHOD:PUBLISH
X-ORIGINAL-URL:https://4hcampct.org
X-WR-CALDESC:Events for Windham-Tolland 4-H Camp
REFRESH-INTERVAL;VALUE=DURATION:PT1H
X-Robots-Tag:noindex
X-PUBLISHED-TTL:PT1H
BEGIN:VTIMEZONE
TZID:America/New_York
BEGIN:DAYLIGHT
TZOFFSETFROM:-0500
TZOFFSETTO:-0400
TZNAME:EDT
DTSTART:20240310T070000
END:DAYLIGHT
BEGIN:STANDARD
TZOFFSETFROM:-0400
TZOFFSETTO:-0500
TZNAME:EST
DTSTART:20241103T060000
END:STANDARD
END:VTIMEZONE
BEGIN:VEVENT
DTSTART;VALUE=DATE:20241001
DTEND;VALUE=DATE:20241007
DTSTAMP:20260420T212829
CREATED:20240403T155205Z
LAST-MODIFIED:20240403T155205Z
UID:5494-1727740800-1728259199@4hcampct.org
SUMMARY:Private Rental
DESCRIPTION:
URL:https://4hcampct.org/event/private-rental-28/
CATEGORIES:Private Group Rentals
END:VEVENT
BEGIN:VEVENT
DTSTART;TZID=America/New_York:20241002T163000
DTEND;TZID=America/New_York:20241002T173000
DTSTAMP:20260420T212829
CREATED:20240922T200136Z
LAST-MODIFIED:20240922T200136Z
UID:5572-1727886600-1727890200@4hcampct.org
SUMMARY:RHW CLASS
DESCRIPTION:
URL:https://4hcampct.org/event/rhw-class-2/
CATEGORIES:Ragged Hill Woods
ATTACH;FMTTYPE=image/png:https://4hcampct.org/wp-content/uploads/2024/09/RHW-Fall-2024.png
END:VEVENT
BEGIN:VEVENT
DTSTART;TZID=America/New_York:20241009T080000
DTEND;TZID=America/New_York:20241009T170000
DTSTAMP:20260420T212829
CREATED:20240922T201225Z
LAST-MODIFIED:20240922T201225Z
UID:5588-1728460800-1728493200@4hcampct.org
SUMMARY:RHW PRIVATE GROUP
DESCRIPTION:This program is not open to the public. 
URL:https://4hcampct.org/event/rhw-private-group/
CATEGORIES:Ragged Hill Woods
END:VEVENT
BEGIN:VEVENT
DTSTART;TZID=America/New_York:20241009T163000
DTEND;TZID=America/New_York:20241009T173000
DTSTAMP:20260420T212829
CREATED:20240922T200237Z
LAST-MODIFIED:20240922T200237Z
UID:5574-1728491400-1728495000@4hcampct.org
SUMMARY:RHW CLASS
DESCRIPTION:
URL:https://4hcampct.org/event/rhw-class-3/
CATEGORIES:Ragged Hill Woods
ATTACH;FMTTYPE=image/png:https://4hcampct.org/wp-content/uploads/2024/09/RHW-Fall-2024.png
END:VEVENT
BEGIN:VEVENT
DTSTART;VALUE=DATE:20241011
DTEND;VALUE=DATE:20241014
DTSTAMP:20260420T212829
CREATED:20240403T155236Z
LAST-MODIFIED:20240403T155236Z
UID:5496-1728604800-1728863999@4hcampct.org
SUMMARY:Private Rental
DESCRIPTION:
URL:https://4hcampct.org/event/private-rental-29/
CATEGORIES:Private Group Rentals
END:VEVENT
BEGIN:VEVENT
DTSTART;TZID=America/New_York:20241016T163000
DTEND;TZID=America/New_York:20241016T173000
DTSTAMP:20260420T212829
CREATED:20240922T200423Z
LAST-MODIFIED:20240922T200423Z
UID:5576-1729096200-1729099800@4hcampct.org
SUMMARY:RHW CLASS
DESCRIPTION:
URL:https://4hcampct.org/event/rhw-class-4/
CATEGORIES:Ragged Hill Woods
ATTACH;FMTTYPE=image/png:https://4hcampct.org/wp-content/uploads/2024/09/RHW-Fall-2024.png
END:VEVENT
BEGIN:VEVENT
DTSTART;TZID=America/New_York:20241017T080000
DTEND;TZID=America/New_York:20241018T120000
DTSTAMP:20260420T212829
CREATED:20240922T200533Z
LAST-MODIFIED:20240922T200533Z
UID:5578-1729152000-1729252800@4hcampct.org
SUMMARY:RHW PRIVATE SESSION
DESCRIPTION:This program is not open the the public. 
URL:https://4hcampct.org/event/rhw-private-session/
CATEGORIES:Ragged Hill Woods
END:VEVENT
BEGIN:VEVENT
DTSTART;TZID=America/New_York:20241018T173000
DTEND;TZID=America/New_York:20241020T090000
DTSTAMP:20260420T212829
CREATED:20240403T160024Z
LAST-MODIFIED:20240922T201810Z
UID:5511-1729272600-1729414800@4hcampct.org
SUMMARY:Teen Weekend
DESCRIPTION:REGISTER HERE \n 
URL:https://4hcampct.org/event/teen-weekend-7/
CATEGORIES:Camp
ATTACH;FMTTYPE=image/png:https://4hcampct.org/wp-content/uploads/2024/09/Oct.-Teen-Wknd-2024.png
END:VEVENT
BEGIN:VEVENT
DTSTART;TZID=America/New_York:20241019T140000
DTEND;TZID=America/New_York:20241019T160000
DTSTAMP:20260420T212829
CREATED:20240403T160053Z
LAST-MODIFIED:20240922T201629Z
UID:5513-1729346400-1729353600@4hcampct.org
SUMMARY:Fall Extravaganza
DESCRIPTION: 
URL:https://4hcampct.org/event/fall-extravaganza-2/
CATEGORIES:Camp
ATTACH;FMTTYPE=image/png:https://4hcampct.org/wp-content/uploads/2024/09/Fall-Extravaganza-3.png
END:VEVENT
BEGIN:VEVENT
DTSTART;TZID=America/New_York:20241023T163000
DTEND;TZID=America/New_York:20241023T173000
DTSTAMP:20260420T212829
CREATED:20240922T200628Z
LAST-MODIFIED:20240922T200628Z
UID:5580-1729701000-1729704600@4hcampct.org
SUMMARY:RHW CLASS
DESCRIPTION:
URL:https://4hcampct.org/event/rhw-class-5/
CATEGORIES:Ragged Hill Woods
ATTACH;FMTTYPE=image/png:https://4hcampct.org/wp-content/uploads/2024/09/RHW-Fall-2024.png
END:VEVENT
BEGIN:VEVENT
DTSTART;VALUE=DATE:20241025
DTEND;VALUE=DATE:20241028
DTSTAMP:20260420T212829
CREATED:20240403T155314Z
LAST-MODIFIED:20240403T155314Z
UID:5498-1729814400-1730073599@4hcampct.org
SUMMARY:Private Rental
DESCRIPTION:
URL:https://4hcampct.org/event/private-rental-30/
CATEGORIES:Private Group Rentals
END:VEVENT
BEGIN:VEVENT
DTSTART;TZID=America/New_York:20241030T163000
DTEND;TZID=America/New_York:20241030T173000
DTSTAMP:20260420T212829
CREATED:20240922T200723Z
LAST-MODIFIED:20240922T200723Z
UID:5582-1730305800-1730309400@4hcampct.org
SUMMARY:RHW CLASS
DESCRIPTION:
URL:https://4hcampct.org/event/rhw-class-6/
CATEGORIES:Ragged Hill Woods
ATTACH;FMTTYPE=image/png:https://4hcampct.org/wp-content/uploads/2024/09/RHW-Fall-2024.png
END:VEVENT
BEGIN:VEVENT
DTSTART;TZID=America/New_York:20241031T080000
DTEND;TZID=America/New_York:20241031T170000
DTSTAMP:20260420T212829
CREATED:20240922T201029Z
LAST-MODIFIED:20240923T114849Z
UID:5584-1730361600-1730394000@4hcampct.org
SUMMARY:Private rental
DESCRIPTION:
URL:https://4hcampct.org/event/private-rental-34/
CATEGORIES:Private Group Rentals
END:VEVENT
END:VCALENDAR