BEGIN:VCALENDAR
VERSION:2.0
PRODID:-//Windham-Tolland 4-H Camp - ECPv6.0.6.2//NONSGML v1.0//EN
CALSCALE:GREGORIAN
METHOD:PUBLISH
X-WR-CALNAME:Windham-Tolland 4-H Camp
X-ORIGINAL-URL:https://4hcampct.org
X-WR-CALDESC:Events for Windham-Tolland 4-H Camp
REFRESH-INTERVAL;VALUE=DURATION:PT1H
X-Robots-Tag:noindex
X-PUBLISHED-TTL:PT1H
BEGIN:VTIMEZONE
TZID:America/New_York
BEGIN:DAYLIGHT
TZOFFSETFROM:-0500
TZOFFSETTO:-0400
TZNAME:EDT
DTSTART:20250309T070000
END:DAYLIGHT
BEGIN:STANDARD
TZOFFSETFROM:-0400
TZOFFSETTO:-0500
TZNAME:EST
DTSTART:20251102T060000
END:STANDARD
END:VTIMEZONE
BEGIN:VEVENT
DTSTART;TZID=America/New_York:20250110T173000
DTEND;TZID=America/New_York:20250112T090000
DTSTAMP:20260420T162540
CREATED:20240922T202518Z
LAST-MODIFIED:20240922T202518Z
UID:5604-1736530200-1736672400@4hcampct.org
SUMMARY:Teen Weekend January
DESCRIPTION:REGISTER HERE
URL:https://4hcampct.org/event/teen-weekend-january/
CATEGORIES:Camp
ATTACH;FMTTYPE=image/png:https://4hcampct.org/wp-content/uploads/2024/09/January-Teen-Weekend-2025-1.png
END:VEVENT
BEGIN:VEVENT
DTSTART;TZID=America/New_York:20250112T130000
DTEND;TZID=America/New_York:20250112T150000
DTSTAMP:20260420T162540
CREATED:20240922T202628Z
LAST-MODIFIED:20240922T202628Z
UID:5606-1736686800-1736694000@4hcampct.org
SUMMARY:January Open House
DESCRIPTION:
URL:https://4hcampct.org/event/january-open-house-5/
CATEGORIES:Camp
ATTACH;FMTTYPE=image/png:https://4hcampct.org/wp-content/uploads/2024/09/January-Open-House-2025-1.png
END:VEVENT
BEGIN:VEVENT
DTSTART;TZID=America/New_York:20250125T170000
DTEND;TZID=America/New_York:20250125T200000
DTSTAMP:20260420T162540
CREATED:20241109T214232Z
LAST-MODIFIED:20250106T160709Z
UID:5804-1737824400-1737835200@4hcampct.org
SUMMARY:Sno-Ball
DESCRIPTION:  \nTo register click here
URL:https://4hcampct.org/event/sno-ball/
LOCATION:Windham-Tolland 4-H Camp\, 326 Taft Pond Rd \, Pomfret \, CT\, 06259\, United States
CATEGORIES:Camp
ATTACH;FMTTYPE=image/png:https://4hcampct.org/wp-content/uploads/2024/11/Sno-Ball-Invitation.png
END:VEVENT
END:VCALENDAR